BEGIN:VCALENDAR
VERSION:2.0
PRODID:-//Portal DeMolay - ECPv6.10.1.1//NONSGML v1.0//EN
CALSCALE:GREGORIAN
METHOD:PUBLISH
X-WR-CALNAME:Portal DeMolay
X-ORIGINAL-URL:https://portal.demolayparana.org.br
X-WR-CALDESC:Eventos para Portal DeMolay
REFRESH-INTERVAL;VALUE=DURATION:PT1H
X-Robots-Tag:noindex
X-PUBLISHED-TTL:PT1H
BEGIN:VTIMEZONE
TZID:America/Sao_Paulo
BEGIN:STANDARD
TZOFFSETFROM:-0300
TZOFFSETTO:-0300
TZNAME:-03
DTSTART:20240101T000000
END:STANDARD
END:VTIMEZONE
BEGIN:VEVENT
DTSTART;TZID=America/Sao_Paulo:20241106T200000
DTEND;TZID=America/Sao_Paulo:20241108T210000
DTSTAMP:20260419T125429
CREATED:20241101T003426Z
LAST-MODIFIED:20241101T003426Z
UID:1744-1730923200-1731099600@portal.demolayparana.org.br
SUMMARY:III Fórum Empreendedor de Rolândia
DESCRIPTION:Evento promovido pelo Capítulo Getúlio Pereira Salerno\, nº 302\, vai reunir grandes empresas de Rolândia\, como Itamaraty\, Pastifício Selmi\, Silomax e muitas outras\, para uma programação de palestras\, treinamentos e painéis imperdíveis\, de 6 a 8 de novembro. \nAcesse o link abaixo para conferir a programação e inscrever-se! \nVocê escolhe o valor do ingresso e 100% do dinheiro será destinado ao Hospital São Rafael\, que é a única instituição de saúde deste nível da região. \nAs atividades acontecerão no Auditório da ACIR e no Museu Izidoro Armacollo\, sendo transmitidas ao vivo pelas redes sociais do Capítulo. \n> Evento promovido pelo Capítulo Getúlio Pereira Salerno\, em parceria com a Associação Comercial e Empresarial de Rolândia. Apoio: ID Agência e Jornal Regional (JR). Patrocínio: Contabiliza\, Versafin e Silomax.
URL:https://portal.demolayparana.org.br/event/iii-forum-empreendedor-de-rolandia/
CATEGORIES:Evento Não Oficial
ATTACH;FMTTYPE=image/jpeg:https://portal.demolayparana.org.br/wp-content/uploads/2024/10/fundo-conceito.jpg
END:VEVENT
END:VCALENDAR